BEGIN:VCALENDAR
PRODID:NingEventWidget-v1
VERSION:2.0
METHOD:PUBLISH
BEGIN:VEVENT
UID:4320450:Event:48418
DTSTAMP:20260425T142944Z
SUMMARY:Volunter Spotlight Concert at Hard Rock Cafe
DESCRIPTION:Join us at Hard Rock Cafe for the Volunteer Spotlight Conc
 ert hosted by XPN Musicians on Call! Listen to the heartfelt stories, 
 jam to the beats and purchase Hard Rock Heals merchandise to give back
  to Musicians On Call, a nonprofit organization that brings live and r
 ecorded music to the bedsides of patients in local healthcare faciliti
 es. Admission is free.\n\nFor more information visit http://phillytodo
 .com/events/volunter-spotlight-concert-at-hard-rock-cafe
DTSTART:20161212T230000Z
DTEND:20161213T030000Z
CATEGORIES:concert
LOCATION:Hard Rock Cafe Philadelphia
WEBSITE:
URL:
CONTACT:
ORGANIZER:
ATTACH;FMTTYPE="image/jpeg":http://storage.ning.com/topology/rest/1.0/
 file/get/3054998938?profile=original
ATTENDEE;ROLE=REQ-PARTICIPANT;PARTSTAT=ACCEPTED;RSVP=TRUE;CN=CashmanAs
 soc:http://phillytodo.com/profile/CashmanAssoc
END:VEVENT
END:VCALENDAR
