BEGIN:VCALENDAR
PRODID:NingEventWidget-v1
VERSION:2.0
METHOD:PUBLISH
BEGIN:VEVENT
UID:4320450:Event:43077
DTSTAMP:20260425T144704Z
SUMMARY:Visit Santa at The Market & Shops at Comcast Center
DESCRIPTION:Make this season memorable for your little ones with a vis
 it to see Santa at the Market & Shops at Comcast Center. Every Saturda
 y and Sunday from November 28-December 20, following the Comcast Holid
 ay Spectacular, Santa will be in his chair to bring you holiday cheer 
 and pose for pictures. Santa will be available for photos at the top o
 f each hour from 11am-3pm.\n \n\n\nFor more information visit http://
 phillytodo.com/events/visit-santa-at-the-market-shops-at-comcast-cente
 r
DTSTART:20151128T160000Z
DTEND:20151128T200000Z
CATEGORIES:holiday
LOCATION:The Market & Shops at Comcast Center
WEBSITE:https://www.facebook.com/events/1496882623974654/
URL:https://www.facebook.com/events/1496882623974654/
CONTACT:2156271060
ORGANIZER;CN=CashmanAssoc:http://phillytodo.com/profile/CashmanAssoc
ATTACH;FMTTYPE="image/jpeg":http://storage.ning.com/topology/rest/1.0/
 file/get/3054995540?profile=original
ATTENDEE;ROLE=REQ-PARTICIPANT;PARTSTAT=ACCEPTED;RSVP=TRUE;CN=CashmanAs
 soc:http://phillytodo.com/profile/CashmanAssoc
END:VEVENT
END:VCALENDAR
