BEGIN:VCALENDAR
PRODID:NingEventWidget-v1
VERSION:2.0
METHOD:PUBLISH
BEGIN:VEVENT
UID:4320450:Event:41434
DTSTAMP:20260425T160813Z
SUMMARY:Visit our Parklet on Parking Day
DESCRIPTION:Stop by the corner of 19th and Spring Garden and visit Ca
 reer Wardrobe's interactive “parklet” which highlights the merging
  of our mission and impact. Visit the parklet corner of “shopping & 
 donating” to drop clothing donations and get a discount voucher for 
 The Wardrobe Boutique. Or stop by the parklet corner of “career & co
 nfidence” for tips on nailing your job interview and win a resume tu
 ne up! \n\nFor more information visit http://phillytodo.com/events/vi
 sit-our-parklet-on-parking-day
DTSTART:20150918T040000Z
DTEND:20150919T035900Z
CATEGORIES:fundraiser
LOCATION:Career Wardrobe
WEBSITE:http://www.careerwardrobe.com
URL:http://www.careerwardrobe.com
CONTACT:215-568-2660
ORGANIZER:
ATTACH;FMTTYPE="image/jpeg":http://storage.ning.com/topology/rest/1.0/
 file/get/3054973634?profile=original
ATTENDEE;ROLE=REQ-PARTICIPANT;PARTSTAT=ACCEPTED;RSVP=TRUE;CN=erinailee
 n:http://phillytodo.com/profile/erinaileen
END:VEVENT
END:VCALENDAR
