BEGIN:VCALENDAR
PRODID:NingEventWidget-v1
VERSION:2.0
METHOD:PUBLISH
BEGIN:VEVENT
UID:4320450:Event:35768
DTSTAMP:20260425T130007Z
SUMMARY:Visit a Philadelphia Flea Market in March 2014
DESCRIPTION:There are always flea markets going on in the city of Phil
 adelphia. Check them out here. \n\nFor more information visit http://
 phillytodo.com/events/visit-a-philadelphia-flea-market-in-march-2014
DTSTART:20140301T140000Z
DTEND:20140309T000000Z
CATEGORIES:antique, vintage, "&", flea, market, event
LOCATION:The City
WEBSITE:http://www.philadelphiafleamarketnews.com
URL:http://www.philadelphiafleamarketnews.com
CONTACT:
ORGANIZER;CN="Admin Philly":http://phillytodo.com/profile/AdminPhilly
ATTACH;FMTTYPE="image/jpeg":
ATTENDEE;ROLE=REQ-PARTICIPANT;PARTSTAT=ACCEPTED;RSVP=TRUE;CN="Admin Ph
 illy":http://phillytodo.com/profile/AdminPhilly
END:VEVENT
END:VCALENDAR
