BEGIN:VCALENDAR
PRODID:NingEventWidget-v1
VERSION:2.0
METHOD:PUBLISH
BEGIN:VEVENT
UID:4320450:Event:60704
DTSTAMP:20260425T124104Z
SUMMARY:Virtual Philadelphia Craft Tour with the James Renwick Allianc
 e &amp; CraftNOW
DESCRIPTION:The James Renwick Alliance is partnering with CraftNOW to 
 design a new kind of virtual tour and showcasing Philadelphia’s  
 Craft Capital.” This unique three-hour live experience will featur
 e some of the most important craft destinations and influencers in the
  city. The tour will include virtual stops at The Clay Studio, Grave
 rs Lane Gallery, Wharton Esherick Museum, The Center for Art in Wood, 
 Bahdeebahdu, and Philadelphia Museum of Art, as well as several privat
 e collections.\n\nFor more information visit http://phillytodo.com/eve
 nts/virtual-philadelphia-craft-tour-with-the-james-renwick-alliance
DTSTART:20200802T190000Z
DTEND:20200802T220000Z
CATEGORIES:virtual, craft, tour
LOCATION:Zoom
WEBSITE:https://www.craftnowphila.org/jratour/
URL:https://www.craftnowphila.org/jratour/
CONTACT:(215) 717-7883
ORGANIZER;CN="Bryan Chan":http://phillytodo.com/profile/BryanChan
ATTACH;FMTTYPE="image/jpeg":https://storage.ning.com/topology/rest/1.0
 /file/get/7137048677?profile=original
ATTENDEE;ROLE=REQ-PARTICIPANT;PARTSTAT=ACCEPTED;RSVP=TRUE;CN="Bryan Ch
 an":http://phillytodo.com/profile/BryanChan
END:VEVENT
END:VCALENDAR
