BEGIN:VCALENDAR
PRODID:NingEventWidget-v1
VERSION:2.0
METHOD:PUBLISH
BEGIN:VEVENT
UID:4320450:Event:38468
DTSTAMP:20260425T141237Z
SUMMARY:VIP Stone Crab Unveiling
DESCRIPTION:October 17th at 1:30 pm kicks off Stone Crab season at Del
  Frisco's and we will be pulling out all the stops. Come witness the a
 rrival of the first Stone Crab shipment straight from the Florida Keys
 .\n\nFor more information visit http://phillytodo.com/events/vip-stone
 -crab-unveiling
DTSTART:20141017T040000Z
DTEND:20141018T035900Z
CATEGORIES:special, event
LOCATION:Del Frisco's Steak House
WEBSITE:http://www.delfriscos.com
URL:http://www.delfriscos.com
CONTACT:
ORGANIZER:
ATTACH;FMTTYPE="image/jpeg":http://storage.ning.com/topology/rest/1.0/
 file/get/3054980153?profile=original
ATTENDEE;ROLE=REQ-PARTICIPANT;PARTSTAT=ACCEPTED;RSVP=TRUE;CN="Neff Ass
 ociates":http://phillytodo.com/profile/NeffAssociates317
END:VEVENT
END:VCALENDAR
