BEGIN:VCALENDAR
PRODID:NingEventWidget-v1
VERSION:2.0
METHOD:PUBLISH
BEGIN:VEVENT
UID:4320450:Event:26723
DTSTAMP:20260425T161728Z
SUMMARY:VIP Grand Opening Party - Johnny Utah's Country Rock Bar and S
 aloon!
DESCRIPTION:Announcing the VIP Grand Opening of a Philly first - Johnn
 y Utah's Country Rock Bar and Saloon - and you & your friends are invi
 ted!  From the rock / country music to the mechanical bull to the \"A
 dult Lemonade\" menu, everyone is in for a treat.  Includes Complimen
 tary adult lemonade, tea, specialty drinks, and domestic beer from 6:3
 0 - 8:30pm, Complimentary butlered menu sampling, Complimentary bull r
 iding lessons 6:00 - 8:30pm, bull riding contest starting at 9:00pm - 
 hosted by World Champion bull rider, hourly prizes and giveaways inclu
 ding future bar tabs, cotton candy towers, and cowboy boot beers & sho
 ts, and More!!\n \nJoin us after work (or later that night) for an aw
 esome, new experience here in Philly.  You and your friends MUST RSVP
  to attend - it's a requirement!!  Stay well after the open for as th
 ings really start to heat up with the bull riding contest - and of cou
 rse free admission ALL NIGHT LONG courtesy of UpcomingEvents.com.  Ag
 ain, you must RSVP to attend.\n\nFor more information visit http://phi
 llytodo.com/events/vip-grand-opening-party-johnny-utah-s-country-rock-
 bar-and-saloon
DTSTART:20120511T210000Z
DTEND:20120512T060000Z
CATEGORIES:venue, opening
LOCATION:Johnny Utah's Country Rock Bar
WEBSITE:http://www.johnnyutahsphilly.com/
URL:http://www.johnnyutahsphilly.com/
CONTACT:
ORGANIZER;CN="UpcomingEvents.com":http://phillytodo.com/profile/Upcomi
 ngEventscom
ATTACH;FMTTYPE="image/jpeg":http://storage.ning.com/topology/rest/1.0/
 file/get/3054958816?profile=original
ATTENDEE;ROLE=REQ-PARTICIPANT;PARTSTAT=ACCEPTED;RSVP=TRUE;CN="Upcoming
 Events.com":http://phillytodo.com/profile/UpcomingEventscom
END:VEVENT
END:VCALENDAR
