BEGIN:VCALENDAR
PRODID:NingEventWidget-v1
VERSION:2.0
METHOD:PUBLISH
BEGIN:VEVENT
UID:4320450:Event:46201
DTSTAMP:20260425T144809Z
SUMMARY:Vintage Flea Market Surrounds McMichael Park In East Falls
DESCRIPTION:Vintage Market Surrounds McMichael Park In East Falls\nNew
  This Year: Produced By \"Phila Flea Markets\"\nMore Than 100 Vendors 
 In and Around The Park\nThis Sat, May 21st (Rain Date - Sunday)\n8AM t
 il 5PM\nGreat Food, ATM, Handicap Accessible\n215 - 625 - FLEA (3532)\
 nwww.PhilaFleaMarkets.org\n\nFor more information visit http://phillyt
 odo.com/events/vintage-flea-market-surrounds-mcmichael-park-in-east-fa
 lls
DTSTART:20160521T120000Z
DTEND:20160522T210000Z
CATEGORIES:vintage, flea, market
LOCATION:McMichael Park In East Falls
WEBSITE:http://www.PhilafleaMarkets.org
URL:http://www.PhilafleaMarkets.org
CONTACT:215 - 625 - 3532
ORGANIZER;CN="Phila Flea Markets":http://phillytodo.com/profile/PhilaF
 leaMarkets
ATTACH;FMTTYPE="image/jpeg":
ATTENDEE;ROLE=REQ-PARTICIPANT;PARTSTAT=ACCEPTED;RSVP=TRUE;CN="Phila Fl
 ea Markets":http://phillytodo.com/profile/PhilaFleaMarkets
END:VEVENT
END:VCALENDAR
