BEGIN:VCALENDAR
PRODID:NingEventWidget-v1
VERSION:2.0
METHOD:PUBLISH
BEGIN:VEVENT
UID:4320450:Event:38515
DTSTAMP:20260425T174114Z
SUMMARY:Vintage Flea Market Surrounding Sister Cities Park
DESCRIPTION:Vintage Flea Market Surrounding Sister Cities Park\n18th &
  The Ben Franklin Parkway\nThis Sat, Sept 27th From 8AM til 5PM\nMore 
 Than 50 Vendors From The Tri-State Area Featuring Antique Furniture, V
 intage & Estate Jewelry, Glassware, Pottery, Art Work & Much More!\nFr
 ee Admission / ATM / Handicap Accessible\nMore Info: www.PhilaFleaMark
 ets.org\nUse: 1800 Ben Franklin Parkway For GPS\n\nFor more informatio
 n visit http://phillytodo.com/events/vintage-flea-market-surrounding-s
 ister-cities-park
DTSTART:20140927T120000Z
DTEND:20140927T210000Z
CATEGORIES:vintage, flea, market
LOCATION:Sister Cities Park
WEBSITE:http://www.PhilaFleaMarkets.org
URL:http://www.PhilaFleaMarkets.org
CONTACT:215 - 625 - 3532
ORGANIZER;CN="Phila Flea Markets":http://phillytodo.com/profile/PhilaF
 leaMarkets
ATTACH;FMTTYPE="image/jpeg":http://storage.ning.com/topology/rest/1.0/
 file/get/3054980805?profile=original
ATTENDEE;ROLE=REQ-PARTICIPANT;PARTSTAT=ACCEPTED;RSVP=TRUE;CN="Phila Fl
 ea Markets":http://phillytodo.com/profile/PhilaFleaMarkets
END:VEVENT
END:VCALENDAR
