BEGIN:VCALENDAR
PRODID:NingEventWidget-v1
VERSION:2.0
METHOD:PUBLISH
BEGIN:VEVENT
UID:4320450:Event:34295
DTSTAMP:20260425T190523Z
SUMMARY:Vintage Flea Market Along The Ben Franklin Parkway
DESCRIPTION:More than 50 vendors from the Tri-State area featuring Ant
 iques, Collectibles, Vintage Furniture, Jewelry, Glassware, Pottery & 
 Much More!\nThis Sat, 9/28 from 8AM til 4PM\nAround Sister Cities Park
  at 18th & Ben Franklin Parkway\nUse 1801 Ben Franklin Parkway For GPS
 \nMore Info: www.PhilaFleaMarkets.org\n\nFor more information visit ht
 tp://phillytodo.com/events/vintage-flea-market-along-the-ben-franklin-
 parkway
DTSTART:20130928T120000Z
DTEND:20130928T200000Z
CATEGORIES:flea, market
LOCATION:Sister Cities Park
WEBSITE:http://www.PhilaFleaMarkets.org
URL:http://www.PhilaFleaMarkets.org
CONTACT:215 - 625 - 3532
ORGANIZER;CN="Phila Flea Markets":http://phillytodo.com/profile/PhilaF
 leaMarkets
ATTACH;FMTTYPE="image/jpeg":http://storage.ning.com/topology/rest/1.0/
 file/get/3054967492?profile=original
ATTENDEE;ROLE=REQ-PARTICIPANT;PARTSTAT=ACCEPTED;RSVP=TRUE;CN="Phila Fl
 ea Markets":http://phillytodo.com/profile/PhilaFleaMarkets
END:VEVENT
END:VCALENDAR
