BEGIN:VCALENDAR
PRODID:NingEventWidget-v1
VERSION:2.0
METHOD:PUBLISH
BEGIN:VEVENT
UID:4320450:Event:54806
DTSTAMP:20260425T112619Z
SUMMARY:Villanova Pregame Party
DESCRIPTION:Welcome home your Villanova Wildcats at XFINITY Live! befo
 re their game on 1/6.\nWe're throwing a pregame party for fans to get 
 a chance to hang out with the players!\nOur party features a visit fro
 m Will D. Cat, and the Villanova Cheerleaders. The party starts at 5:3
 0pm and the Wildcat Walk begins at 6pm!\n\nFor more information visit 
 http://phillytodo.com/events/villanova-pregame-party
DTSTART:20180106T223000Z
DTEND:20180107T000000Z
CATEGORIES:sports, event
LOCATION:XFINITY Live! Philadelphia
WEBSITE:http://www.xfinitylive.com/entertainment/event/11794
URL:http://www.xfinitylive.com/entertainment/event/11794
CONTACT:
ORGANIZER;CN="XFINITY Live! Philadelphia":http://phillytodo.com/profil
 e/XFINITYLivePhiladelphia
ATTACH;FMTTYPE="image/jpeg":http://storage.ning.com/topology/rest/1.0/
 file/get/3055011498?profile=original
ATTENDEE;ROLE=REQ-PARTICIPANT;PARTSTAT=ACCEPTED;RSVP=TRUE;CN="XFINITY 
 Live! Philadelphia":http://phillytodo.com/profile/XFINITYLivePhiladelp
 hia
END:VEVENT
END:VCALENDAR
