BEGIN:VCALENDAR
PRODID:NingEventWidget-v1
VERSION:2.0
METHOD:PUBLISH
BEGIN:VEVENT
UID:4320450:Event:4403
DTSTAMP:20260425T173513Z
SUMMARY:Villa Calcinaia Wine Dinner
DESCRIPTION:Join Davio's, Philadelphia's favorite Northern Italian Ste
 akhouse, for an evening of Tuscan wine and culinary enchantment featur
 ing the exclusive wines of Villa Calcinaia, the world-renowned, award-
 winning winery located in the heart of Tuscany, as they are presented 
 by special guest and host of the evening, Count Sebastiano Capponi, th
 e 20th generation of the Capponi family to run the prominent 200-hecta
 re estate of Villa Calcinaia.\n \nOn Wednesday, March 9th, 2011 at 6:
 30pm, guests will be treated to a four-course dinner of regionally ins
 pired foods prepared byExecutive Chef David Boyle of Davio's and perfe
 ctly paired wines presented by Count Sebastiano Capponi himself, inclu
 ding items such as: Chicken Liver Mousse paired with Villa Calcinaia C
 omitale, Duck Bolognese and Parperdelle Pasta paired with Piegaia Chia
 nti Classico Reserva (please see full menu below).  \nThe dinner wil
 l allow guests the once-in-a-lifetime chance to experience some of the
  world's best wines as they are presented by the prominent Italian Cou
 nt, Sebastiano Capponi, whose family traces back to the Medici Dynasty
  in 1524 Florence! This intimate journey is $99.00 per person (tax and
  gratuity included). Reservations are highly recommended for this even
 t by calling 215-563-4810 today!\n \nMenu\nHors D'oeuvres\nChicken Li
 ver Mousse\nPrima Donna Gougere\nPhilly Cheesesteak Spring Rolls\nVill
 a Calcinaia Comitale \n \nFirst Course\nTaylor Bay Scallop Cioppino\
 nPiegaia Chianti Classico\n \nSecond Course\nDuck Bolognese, Papardel
 le Pasta\nPiegaia Chianti Classico Reserva\n \nThird Course\nVenison 
 Rack, White Beans, Kale, Game Jus\nVilla Calcinaia Casarsa\n \nFourth
  Course\nPecorino, Gorgonzola Picante\nVilla Calcinaia Vin Santo\n\nFo
 r more information visit http://phillytodo.com/events/villa-calcinaia-
 wine-dinner
DTSTART:20110309T233000Z
DTEND:20110310T040000Z
CATEGORIES:wine, dinner
LOCATION:Davio's
WEBSITE:
URL:
CONTACT:
ORGANIZER;CN="Juliette V":http://phillytodo.com/profile/JulietteV
ATTACH;FMTTYPE="image/jpeg":http://storage.ning.com/topology/rest/1.0/
 file/get/3054954898?profile=original
ATTENDEE;ROLE=REQ-PARTICIPANT;PARTSTAT=ACCEPTED;RSVP=TRUE;CN="Juliette
  V":http://phillytodo.com/profile/JulietteV
END:VEVENT
END:VCALENDAR
