BEGIN:VCALENDAR
PRODID:NingEventWidget-v1
VERSION:2.0
METHOD:PUBLISH
BEGIN:VEVENT
UID:4320450:Event:31449
DTSTAMP:20260425T145031Z
SUMMARY:Vietnam War Living History Day at the Battleship New Jersey
DESCRIPTION:Experience Vietnam War artifacts, re-enactors, veterans sh
 aring their experiences, even 1960s music over the Battleship's PA!  
 The annual Vietnam War Living History Day, which remembers the commiss
 ioning of the USS New Jersey into the Vietnam War, will take place on 
 Saturday, April 6.  All Vietnam-related activities are free with the 
 purchase of a tour of the Battleship.\n\nFor more information visit ht
 tp://phillytodo.com/events/vietnam-war-living-history-day-at-the-battl
 eship-new-jersey
DTSTART:20130406T140000Z
DTEND:20130406T190000Z
CATEGORIES:historical, re-enactment
LOCATION:Battleship New Jersey
WEBSITE:http://www.battleshipnewjersey.org
URL:http://www.battleshipnewjersey.org
CONTACT:866-977-6262
ORGANIZER;CN="Battleship New Jersey":http://phillytodo.com/profile/Bat
 tleshipNewJersey
ATTACH;FMTTYPE="image/jpeg":
ATTENDEE;ROLE=REQ-PARTICIPANT;PARTSTAT=ACCEPTED;RSVP=TRUE;CN="Battlesh
 ip New Jersey":http://phillytodo.com/profile/BattleshipNewJersey
END:VEVENT
END:VCALENDAR
