BEGIN:VCALENDAR
PRODID:NingEventWidget-v1
VERSION:2.0
METHOD:PUBLISH
BEGIN:VEVENT
UID:4320450:Event:53508
DTSTAMP:20260425T131031Z
SUMMARY:Veteran's Day Fundraiser with Weyerbacher Brewing and Friends
DESCRIPTION:Join us to Celebrate the Men & Women who serve our country
  with a fundraiser for the National Military Family Association for Ve
 teran's Day. We joined together with Weyerbacher Brewing Company, alon
 g with Women from the Philly Beer Scene, to brew a special beer in hon
 or of Veteran's Day.\nWe will be releasing Integri-tea, a 6.5% dark sa
 ison with Oolong tea & candi sugar. Sales from Integri-tea along with 
 select drafts from Weyerbacher, Evil Genius, Coppertail, Austin Eastci
 der, Evolution Craft Brewing, Barren Hill & 2SP will be donated to the
  National Military Family Association. \nAdditional funds will be rai
 sed with raffles from other breweries. Tickets can be bought at Devils
  Den starting Monday November 6th. Drawing will be held at 11pm of Fri
 day the 10th. You do not need to be present to win.\n\n\nFor more info
 rmation visit http://phillytodo.com/events/veteran-s-day-fundraiser-wi
 th-weyerbacher-brewing-amp-friends
DTSTART:20171111T000000Z
DTEND:20171111T040000Z
CATEGORIES:fundraiser
LOCATION:Devil's Den Philadelphia
WEBSITE:http://www.devilsdenphilly.com/
URL:http://www.devilsdenphilly.com/
CONTACT:215.339.0855
ORGANIZER:Devil's Den
ATTACH;FMTTYPE="image/jpeg":http://storage.ning.com/topology/rest/1.0/
 file/get/3055009774?profile=original
ATTENDEE;ROLE=REQ-PARTICIPANT;PARTSTAT=ACCEPTED;RSVP=TRUE;CN="Punch Me
 dia":http://phillytodo.com/profile/PunchMedia
END:VEVENT
END:VCALENDAR
