BEGIN:VCALENDAR
PRODID:NingEventWidget-v1
VERSION:2.0
METHOD:PUBLISH
BEGIN:VEVENT
UID:4320450:Event:28603
DTSTAMP:20260425T115056Z
SUMMARY:Venezie: Wine and Masquerade
DESCRIPTION:Venezie is the collective name for a large region in North
  East Italy. It was home to such notables as Romeo and Juliet, Casanov
 a, and the founder of Illy Coffee. Venice is found here, whose palazzo
  and canals provide a dramatic backdrop for the distinctive masks and 
 pageantry of the Venetian Carnival. Venezie also comprises the fantast
 ic wine regions of Verona, Trentino-Alto Adige, and Friuli-Venezi Giul
 ia. These regions are justly famous for white wines of style both melo
 n-rich and sharp and zesty, with mineral and brine from the regions' l
 akes, lagoons and sea shores. Reds vary with the berry and plum of Ref
 osco, and the dep, rich flavors of appasimento styles of Valpolicella.
 \n\nWe will taste 5 different wines from these world-class regions and
  celebrate Carnival! While actual Carnival is several months away, pra
 ctice now by wearing your best mask and join host Bob Barrett, certifi
 ed specialist of wine, in the installment of our Global Passport Tasti
 ng Series.\n\nBuy tickets at: http://jetmasqueradetasting-efbevent.eve
 ntbrite.com/#\nWhere? Jet Wine Bar, 1525 South Street, 215.735.1116\nW
 hen? Tuesday, October 23rd\nWhat Time? 6:30pm-8:30pm\nHow Much? $25\n\
 n\nFor more information visit http://phillytodo.com/events/venezie-win
 e-and-masquerade
DTSTART:20121023T223000Z
DTEND:20121024T003000Z
CATEGORIES:wine, tasting
LOCATION:Jet Wine Bar
WEBSITE:http://jetwinebar.com/
URL:http://jetwinebar.com/
CONTACT:215-735-1116
ORGANIZER:
ATTACH;FMTTYPE="image/jpeg":
ATTENDEE;ROLE=REQ-PARTICIPANT;PARTSTAT=ACCEPTED;RSVP=TRUE;CN="Lauren W
 enzel":http://phillytodo.com/profile/JacklinRhoads
END:VEVENT
END:VCALENDAR
