BEGIN:VCALENDAR
PRODID:NingEventWidget-v1
VERSION:2.0
METHOD:PUBLISH
BEGIN:VEVENT
UID:4320450:Event:54939
DTSTAMP:20260425T115010Z
SUMMARY:Vegetable Garden Planning
DESCRIPTION:Want to enjoy the most local food you can get all season l
 ong? It’s time to get planting! Start planning your very own edible 
 garden now with the help of Greensgrow’s staff expert Ari. The works
 hop will focus on how to best use the space in your backyard or commun
 ity plot for a healthy and productive vegetable garden that you can en
 joy throughout the season.\n\nFor more information visit http://philly
 todo.com/events/vegetable-garden-planning
DTSTART:20180323T220000Z
DTEND:20180324T000000Z
CATEGORIES:"workshop/class"
LOCATION:Greensgrow West
WEBSITE:http://www.greensgrow.org/event/vegetable-garden-planning-gree
 nsgrow-west/
URL:http://www.greensgrow.org/event/vegetable-garden-planning-greensgr
 ow-west/
CONTACT:
ORGANIZER;CN="Greensgrow Farms":http://phillytodo.com/profile/Greensgr
 owFarms
ATTACH;FMTTYPE="image/jpeg":
ATTENDEE;ROLE=REQ-PARTICIPANT;PARTSTAT=ACCEPTED;RSVP=TRUE;CN="Greensgr
 ow Farms":http://phillytodo.com/profile/GreensgrowFarms
END:VEVENT
END:VCALENDAR
