BEGIN:VCALENDAR
PRODID:NingEventWidget-v1
VERSION:2.0
METHOD:PUBLISH
BEGIN:VEVENT
UID:4320450:Event:54942
DTSTAMP:20260425T125001Z
SUMMARY:Vegetable Garden Planning
DESCRIPTION:Want to enjoy the most local food you can get all season l
 ong? It’s time to get planting! Start planning your very own edible 
 garden now with the help of Greensgrow’s own farmer Deirdre. The wor
 kshop will focus on how to best use the space in your backyard or comm
 unity plot for a healthy and productive vegetable garden that you can 
 enjoy throughout the season.\n \n\nFor more information visit http://
 phillytodo.com/events/vegetable-garden-planning-1
DTSTART:20180414T160000Z
DTEND:20180414T180000Z
CATEGORIES:"workshop/class"
LOCATION:Greensgrow Farms
WEBSITE:http://www.greensgrow.org/event/vegetable-garden-planning-gree
 nsgrow-farms/
URL:http://www.greensgrow.org/event/vegetable-garden-planning-greensgr
 ow-farms/
CONTACT:
ORGANIZER;CN="Greensgrow Farms":http://phillytodo.com/profile/Greensgr
 owFarms
ATTACH;FMTTYPE="image/jpeg":http://storage.ning.com/topology/rest/1.0/
 file/get/3055010162?profile=original
ATTENDEE;ROLE=REQ-PARTICIPANT;PARTSTAT=ACCEPTED;RSVP=TRUE;CN="Greensgr
 ow Farms":http://phillytodo.com/profile/GreensgrowFarms
END:VEVENT
END:VCALENDAR
