BEGIN:VCALENDAR
PRODID:NingEventWidget-v1
VERSION:2.0
METHOD:PUBLISH
BEGIN:VEVENT
UID:4320450:Event:168816
DTSTAMP:20260425T112850Z
SUMMARY:Valley Forge Casino Resort Hiring Event
DESCRIPTION:\nOver 40 positions are opening. We provide on the job tra
 ining for most positions, so there is no experience necessary.\nWe are
  conducting on the spot interviewing, hiring, and on boarding.\nPositi
 ons in Hotel, Food & Beverage, Security, Casino Cashiers and more.\nAu
 gust Hot Jobs Include: Security Guards, Custodians, Casino Cashiers, F
 ront Desk Reps., Guest Room Attendants, Cooks\nEach attendee who inter
 views for a position will be eligible for a spin on the PRIZE WHEEL fo
 r a chance to win logo merchandise, gift cards, food coupons, etc.  E
 veryone who interviews wins a prize.\nTo get there via public transpor
 tation: SEPTA Bus: Please take the 99, 124, or 125 to First Ave and Gu
 lph Rd.\nApply for any job today online and take a look at the positio
 ns in advance here: https://vfcasino.gethired.com/\n\n\nFor more info
 rmation visit http://phillytodo.com/events/valley-forge-casino-resort-
 hiring-event
DTSTART:20210817T150000Z
DTEND:20210817T180000Z
CATEGORIES:hiring, festival
LOCATION:Valley Forge Casino Resort - Grand Ballroom
WEBSITE:https://vfcasino.gethired.com/
URL:https://vfcasino.gethired.com/
CONTACT:6103548118
ORGANIZER:Valley Forge Casino Resort Hiring Event
ATTACH;FMTTYPE="image/jpeg":
ATTENDEE;ROLE=REQ-PARTICIPANT;PARTSTAT=ACCEPTED;RSVP=TRUE;CN=CashmanAs
 soc:http://phillytodo.com/profile/CashmanAssoc
END:VEVENT
END:VCALENDAR
