BEGIN:VCALENDAR
PRODID:NingEventWidget-v1
VERSION:2.0
METHOD:PUBLISH
BEGIN:VEVENT
UID:4320450:Event:4051
DTSTAMP:20260425T210125Z
SUMMARY:Valentine's Weekend at Positano Coast
DESCRIPTION:Reserve Today for Valentine's Weekend featuring A Chef's S
 pecial Menu (Valentine's Day Only) http://www.positanocoast.net/pdf/PH
 _Vday_2011_WEB-2.pdf&Aphrodisiac Cocktails All Weekend Long! With More
  Sultry Surprises To Come...To Reserve, Call 215-238-0499 or Visit www
 .PositanoCoast.net\n\nFor more information visit http://phillytodo.com
 /events/valentines-weekend-at-positano
DTSTART:20110211T230000Z
DTEND:20110215T040000Z
CATEGORIES:"valentine's", day
LOCATION:Positano Coast by Aldo Lamberti
WEBSITE:http://www.PositanoCoast.net
URL:http://www.PositanoCoast.net
CONTACT:215-238-0499
ORGANIZER;CN="Positano Coast":http://phillytodo.com/profile/PositanoCo
 ast
ATTACH;FMTTYPE="image/jpeg":http://storage.ning.com/topology/rest/1.0/
 file/get/3054954069?profile=original
ATTENDEE;ROLE=REQ-PARTICIPANT;PARTSTAT=ACCEPTED;RSVP=TRUE;CN="Positano
  Coast":http://phillytodo.com/profile/PositanoCoast
END:VEVENT
END:VCALENDAR
