BEGIN:VCALENDAR
PRODID:NingEventWidget-v1
VERSION:2.0
METHOD:PUBLISH
BEGIN:VEVENT
UID:4320450:Event:746
DTSTAMP:20260425T124851Z
SUMMARY:Valentines @ GREY
DESCRIPTION:Grey Lounge is Old City's hottest new social lounge. Its a
 tmosphere is sophisticated yet stylish and its decor captivates all. G
 rey features a full line of tea infused cocktails which compliment its
  gourmet menu. Priced to fit every budget Grey has quickly become the 
 city's favorite lounge for the areas young business professionals, sen
 ators, atheletes and anyone else looking to have a fun yet relaxed tim
 e.\n\nValentines weekend we will be featuring a special Dinner seating
  @ 6PM and 8PM on Friday, Saturday and Sunday the 12, 13 and 14th of F
 ebruary.\n\nThe Dinner will consist of a 4 course dinner for $45 a per
 son plus tax which includes a complimentary rose and glass of champagn
 e for each lady and the following menu items:\n\n1stCourse: Seafood Ma
 rtini\n2nd Course: Roast Fuggi Apple or Pequillo Red Pepper Bisque\n3r
 d Course: Pan Roasted Duck Breast, Petite Filet or Baked Lobster Tail\
 n4th Course: Dark Chocolate and Grand Marnier Fondue\n\nFor Reservatio
 ns please call: 215-925-3379\nor email: rsvp@greyoldcity.com\n\nFor mo
 re information visit http://phillytodo.com/events/valentines-grey
DTSTART:20100214T230000Z
DTEND:20100215T010000Z
CATEGORIES:valentines, day, dinner
LOCATION:Grey Social bar & Lounge
WEBSITE:
URL:
CONTACT:215-925-3379
ORGANIZER:darin picorella & KID Rocco Promotions
ATTACH;FMTTYPE="image/jpeg":http://storage.ning.com/topology/rest/1.0/
 file/get/3054943275?profile=original
ATTENDEE;ROLE=REQ-PARTICIPANT;PARTSTAT=ACCEPTED;RSVP=TRUE;CN="darin pi
 corella":http://phillytodo.com/profile/darinpicorella
END:VEVENT
END:VCALENDAR
