BEGIN:VCALENDAR
PRODID:NingEventWidget-v1
VERSION:2.0
METHOD:PUBLISH
BEGIN:VEVENT
UID:4320450:Event:4084
DTSTAMP:20260425T160209Z
SUMMARY:Valentines for Felines
DESCRIPTION:Benefits Catzinjammers Cats. 50/50 raffle and silent aucti
 on items include a Helen Mirkil painting and a Tiffany bracelet. Raffl
 e items include: Harry and David gift baskets, theater tickets to Suza
 nne Roberts theater, beer basket of cheer, wine basket of cheer, books
  about cats and dogs, a massage gift certificate, an acupuncture gift 
 certificate, a quartz man's wristwatch, an assortment of matted photog
 raphs much more!\n\nFor more information visit http://phillytodo.com/e
 vents/valentines-for-felines
DTSTART:20110214T003000Z
DTEND:20110214T033000Z
CATEGORIES:findraiser
LOCATION:Doobies Bar
WEBSITE:http://www.facebook.com/doobiesbar
URL:http://www.facebook.com/doobiesbar
CONTACT:215 546 0316
ORGANIZER;CN="Doobies Bar":http://phillytodo.com/profile/DoobiesBar
ATTACH;FMTTYPE="image/jpeg":
ATTENDEE;ROLE=REQ-PARTICIPANT;PARTSTAT=ACCEPTED;RSVP=TRUE;CN="Doobies 
 Bar":http://phillytodo.com/profile/DoobiesBar
END:VEVENT
END:VCALENDAR
