BEGIN:VCALENDAR
PRODID:NingEventWidget-v1
VERSION:2.0
METHOD:PUBLISH
BEGIN:VEVENT
UID:4320450:Event:54931
DTSTAMP:20260425T130619Z
SUMMARY:Valentine’s Day Love Panel with Buddhist Teachers and Practi
 tioners
DESCRIPTION:Everybody wants to have a great Valentine’s Day. In this
  evening, there will be an energizing, provocative, and meaningful dis
 cussion about relationships in the city, making relationships spiritua
 l, and improving difficult relationships.\nJoin us for a Q&A panel dis
 cussion with three Buddhist teachers and practitioners who will share 
 their experiences and insights regarding love and relationships. There
  will be an opportunity to ask any question anonymously and a fun afte
 r-party including many delicious desserts.\nHosted by Kadampa teachers
  and senior students.\nSchedule 6:30 – 7:00pm: Refreshments 7:00 –
  8:00pm: Q&A Panel Discussion 8:00 – 9:00pm: After-party with Desser
 ts\n$10\n\nFor more information visit http://phillytodo.com/events/val
 entine-s-day-love-panel-with-buddhist-teachers-amp
DTSTART:20180215T000000Z
DTEND:20180215T010000Z
CATEGORIES:meditation, buddhism, mindfulness, wellness, buddhist, sing
 les
LOCATION:Kadampa Meditation Center Philadelphia
WEBSITE:http://www.meditationinphiladelphia.org/valentines-day-love-pa
 nel-with-buddhist-teachers-practitioners-february-14/
URL:http://www.meditationinphiladelphia.org/valentines-day-love-panel-
 with-buddhist-teachers-practitioners-february-14/
CONTACT:267-702-3817
ORGANIZER;CN="Education Program Coordinator":http://phillytodo.com/pro
 file/EducationProgramCoordinator
ATTACH;FMTTYPE="image/jpeg":http://storage.ning.com/topology/rest/1.0/
 file/get/3055010726?profile=original
ATTENDEE;ROLE=REQ-PARTICIPANT;PARTSTAT=ACCEPTED;RSVP=TRUE;CN="Educatio
 n Program Coordinator":http://phillytodo.com/profile/EducationProgramC
 oordinator
END:VEVENT
END:VCALENDAR
