BEGIN:VCALENDAR
PRODID:NingEventWidget-v1
VERSION:2.0
METHOD:PUBLISH
BEGIN:VEVENT
UID:4320450:Event:39753
DTSTAMP:20260425T162637Z
SUMMARY:Valentine's Day at Positano Coast
DESCRIPTION:Reserve Your Table at Zagat Rated's \"Mediterranean Dream\
 " to Enjoy Delicious Inspired Italian Cuisine, Professional Service an
 d a Beautiful Atmosphere. Enjoy a Chef's Special Limited a la Carte Me
 nu on Saturday, February 14th with Many Positano Coast Favorite Dishes
  such as Pan Seared Bottom Sirloin Steak, Homemade Vegetable Ravioli, 
 and Sesame Crusted Tuna. Also, all Valentine’s Weekend Long, indulge
  in our Aphrodisiac Cocktails and Oyster & Champagne Pairings. View bo
 th Menus at www.PositanoCoast.net\n\nFor more information visit http:/
 /phillytodo.com/events/valentine-s-day-at-positano-coast
DTSTART:20150213T230000Z
DTEND:20150216T030000Z
CATEGORIES:"valentine's", day
LOCATION:Old City
WEBSITE:http://www.positanocoast.net
URL:http://www.positanocoast.net
CONTACT:8562380499
ORGANIZER;CN="Positano Coast":http://phillytodo.com/profile/PositanoCo
 ast
ATTACH;FMTTYPE="image/jpeg":http://storage.ning.com/topology/rest/1.0/
 file/get/3054987640?profile=original
ATTENDEE;ROLE=REQ-PARTICIPANT;PARTSTAT=ACCEPTED;RSVP=TRUE;CN="Positano
  Coast":http://phillytodo.com/profile/PositanoCoast
END:VEVENT
END:VCALENDAR
