BEGIN:VCALENDAR
PRODID:NingEventWidget-v1
VERSION:2.0
METHOD:PUBLISH
BEGIN:VEVENT
UID:4320450:Event:39703
DTSTAMP:20260425T125814Z
SUMMARY:Valentine's Day Aphrodisiac Dinner
DESCRIPTION:This Valentine’s Day, treat your sweetie to something mo
 re inspired and entertaining than just another restaurant dinner for t
 wo! Our slightly naughty, yet light hearted, 2-hour dinner event feat
 ures no fewer than 18 different aphrodisiac ingredients seductively in
 tertwined in a three-course meal that would surely get Casanova hot 
 under the collar. Between courses, the owners of City Food Tours will 
 entertain you with titillating tidbits and the sexy science behind aph
 rodisiacs. The event climaxes with the sexy secrets that prove aphrodi
 siacs really do work! More Juicy Details\n\nThe event takes place on 
 Saturday, February 14, 2015 with two seatings, 5pm and 8pm. (NOTE: Pl
 ease be sure to select the correct desired seating to attend.)\nThis w
 ildly popular event is being held at Green Eggs Cafe! Executive Chef
 , Larry Hawks channels his inner Barry White, gets frisky in the kitch
 en, and works up three sensual dishes that will have your soul swoonin
 g and taste buds begging for more.\nGuests will also be treated to an 
 entertaining cooking demonstration filled with handy tips that will 
 surely heat things up in your kitchen.\nThe evening includes hilarious
  yet enlightening trivia that will have everyone competing for equally
  entertaining prizes.\nA variety of sexy cocktails will be available
  for purchase during the dinner event. (This venue is not BYO.)\n\nAl
 lergies or dietary restrictions? Simply make a note during your purch
 ase about the foods you can’t eat and we’ll be sure to have a fant
 astic alternative for you. Advanced notice is required.)\n\nFor more 
 information visit http://phillytodo.com/events/valentine-s-day-aphrodi
 siac-dinner
DTSTART:20150215T220000Z
DTEND:20150216T030000Z
CATEGORIES:"valentine's", event
LOCATION:Green Eggs Cafe
WEBSITE:http://www.cityfoodtours.com/philadelphia/valentines_aphrodisi
 ac_dinner.html
URL:http://www.cityfoodtours.com/philadelphia/valentines_aphrodisiac_d
 inner.html
CONTACT:(800) 979-3370
ORGANIZER;CN="Robert Weinberg":http://phillytodo.com/profile/RobertWei
 nberg
ATTACH;FMTTYPE="image/jpeg":
ATTENDEE;ROLE=REQ-PARTICIPANT;PARTSTAT=ACCEPTED;RSVP=TRUE;CN="Robert W
 einberg":http://phillytodo.com/profile/RobertWeinberg
END:VEVENT
END:VCALENDAR
