BEGIN:VCALENDAR
PRODID:NingEventWidget-v1
VERSION:2.0
METHOD:PUBLISH
BEGIN:VEVENT
UID:4320450:Event:39745
DTSTAMP:20260425T144800Z
SUMMARY:Valentine’s Brunch Party at Palladino’s on Passyunk
DESCRIPTION:Things are heating up in the kitchen at Palladino’s on P
 assyunk! On Sunday, February 15, 2015, from 11:00am to 3:00pm, head to
  1934 East Passyunk for a red hot Valentine’s Brunch Party featuring
  boozy cocktails, Prosecco bottle service, decadent breakfast bites, I
 talian specialties and much more. Highlights from Chef Luke Palladino 
 include WTF Waffle (Where’s the foie?), Grapefruit Brulee, Salmon Br
 uschetta, Filet Mignon and Crab duo and more. Each couple will receive
  a special take-home gift of milk chocolate and dark chocolate truffle
 s created specially by Luke's Pastry Chef Jennifer Morales. For the fu
 ll menu, visit www.lukepalladino.com/Palladinos. For reservations, vis
 it Open Table or call (267) 928-4339.\n\n\nFor more information visit 
 http://phillytodo.com/events/valentine-s-brunch-party-at-palladino-s-o
 n-passyunk
DTSTART:20150215T160000Z
DTEND:20150215T200000Z
CATEGORIES:"valentine's", brunch, party
LOCATION:Palladino's on Passyunk
WEBSITE:http://www.lukepalladino.com/Palladinos/home.html
URL:http://www.lukepalladino.com/Palladinos/home.html
CONTACT:267.928.4339
ORGANIZER;CN="Aversa PR & Events":http://phillytodo.com/profile/KoryAv
 ersa277
ATTACH;FMTTYPE="image/jpeg":http://storage.ning.com/topology/rest/1.0/
 file/get/3054987476?profile=original
ATTENDEE;ROLE=REQ-PARTICIPANT;PARTSTAT=ACCEPTED;RSVP=TRUE;CN="Aversa P
 R & Events":http://phillytodo.com/profile/KoryAversa277
END:VEVENT
END:VCALENDAR
