BEGIN:VCALENDAR
PRODID:NingEventWidget-v1
VERSION:2.0
METHOD:PUBLISH
BEGIN:VEVENT
UID:4320450:Event:41385
DTSTAMP:20260425T125918Z
SUMMARY:Urban Retreat: Meditations for Inner Peace
DESCRIPTION:Buddha taught twenty-one meditations that lead to permanen
 t inner peace.  They are called Lamrim, or The Stages of the Path to 
 Enlightenment.  In this retreat we will learn about and meditate on f
 our of these meditations.  No prior meditation experience is necessar
 y, and everyone is welcome.  This retreat will be led by Gen Tenzin.\
 nSessions:\n11:00-11:45am\n2:00-2:45pm\n4:00-4:45pm\n6:00-6:45pm\n$5 p
 er session; or $15 for all four\n\nFor more information visit http://p
 hillytodo.com/events/urban-retreat-meditations-for-inner-peace
DTSTART:20150822T150000Z
DTEND:20150822T224500Z
CATEGORIES:meditation, class, wellness, buddhism, health, stress
LOCATION:Amitayus Kadampa Buddhist Center
WEBSITE:http://www.meditationinphiladelphia.org/urban-retreat-meditati
 ons-for-inner-peace-august-22/
URL:http://www.meditationinphiladelphia.org/urban-retreat-meditations-
 for-inner-peace-august-22/
CONTACT:267-702-3817
ORGANIZER;CN="Education Program Coordinator":http://phillytodo.com/pro
 file/EducationProgramCoordinator
ATTACH;FMTTYPE="image/jpeg":http://storage.ning.com/topology/rest/1.0/
 file/get/3054988121?profile=original
ATTENDEE;ROLE=REQ-PARTICIPANT;PARTSTAT=ACCEPTED;RSVP=TRUE;CN="Educatio
 n Program Coordinator":http://phillytodo.com/profile/EducationProgramC
 oordinator
END:VEVENT
END:VCALENDAR
