BEGIN:VCALENDAR
PRODID:NingEventWidget-v1
VERSION:2.0
METHOD:PUBLISH
BEGIN:VEVENT
UID:4320450:Event:39120
DTSTAMP:20260425T142650Z
SUMMARY:Urban Affairs Coalition 45th Anniversary Breakfast
DESCRIPTION:The Urban Affairs Coalition (UAC) will host their 45th Ann
 iversary Breakfast on Friday, November 21, 2014 from 7:45 a.m. - 9:30 
 a.m. at the Hyatt at the Bellevue. Referred to as “Philadelphia’s 
 premiere networking event,” 800 - 1,000 decision-makers in Philadelp
 hia’s business, government and grassroots communities will gather to
  support this year’s theme: “To this we pledge...” \n\nFor more 
 information visit http://phillytodo.com/events/urban-affairs-coalition
 -45th-anniversary-breakfast
DTSTART:20141121T124500Z
DTEND:20141121T143000Z
CATEGORIES:networking
LOCATION:Hyatt and the Bellevue
WEBSITE:http://uac.org/breakfast
URL:http://uac.org/breakfast
CONTACT:
ORGANIZER;CN="Skai Blue Media":http://phillytodo.com/profile/SkaiBlueM
 edia
ATTACH;FMTTYPE="image/jpeg":
ATTENDEE;ROLE=REQ-PARTICIPANT;PARTSTAT=ACCEPTED;RSVP=TRUE;CN="Skai Blu
 e Media":http://phillytodo.com/profile/SkaiBlueMedia
END:VEVENT
END:VCALENDAR
