BEGIN:VCALENDAR
PRODID:NingEventWidget-v1
VERSION:2.0
METHOD:PUBLISH
BEGIN:VEVENT
UID:4320450:Event:33255
DTSTAMP:20260425T130831Z
SUMMARY:Upstairs Downstairs Tour at Ebenezer Maxwell Mansion
DESCRIPTION:Step back in time to discover the pleasures and challenges
  of Victorian women across all socio-economic levels by participating 
 in Ebenezer Maxwell Mansion’s Upstairs Downstairs tour on Friday, Au
 gust 2 at 7 pm . Guests will be greeted at the door by a maid who will
  conduct the below stairs tour. Upstairs, the lady of the house will g
 uide visitors. Enjoy champagne and light refreshments and take home an
  authentic Victorian cookie and recipe. Take time to explore Philadelp
 hia’s only fully restored Victorian house, museum and garden.  Spac
 e is limited--make reservations for this exciting tour today. $20. htt
 p://ebenezermaxwellmansion.tix.com for tickets..\n\nFor more informati
 on visit http://phillytodo.com/events/upstairs-downstairs-tour-at-eben
 ezer-maxwell-mansion
DTSTART:20130802T230000Z
DTEND:20130803T010000Z
CATEGORIES:museum, tour
LOCATION:Ebenezer Maxwell Mansion
WEBSITE:http://ebenezermaxwellmansion.org
URL:http://ebenezermaxwellmansion.org
CONTACT:215-438-1861
ORGANIZER:BCampbell
ATTACH;FMTTYPE="image/jpeg":http://storage.ning.com/topology/rest/1.0/
 file/get/3054966547?profile=original
ATTENDEE;ROLE=REQ-PARTICIPANT;PARTSTAT=ACCEPTED;RSVP=TRUE;CN="Brandyn 
 Campbell":http://phillytodo.com/profile/BrandynCampbell
END:VEVENT
END:VCALENDAR
