BEGIN:VCALENDAR
PRODID:NingEventWidget-v1
VERSION:2.0
METHOD:PUBLISH
BEGIN:VEVENT
UID:4320450:Event:41708
DTSTAMP:20260425T141125Z
SUMMARY:Upcycled Light Fixure Workshop
DESCRIPTION:Learn how to illuminate your garden this fall!\n\nIn this 
 hands-on workshop everyone will get to create and wire their own mason
  jar light fixture to take home. We’ll provide everything you need f
 or this project except the electricity! We’ll show you a couple of o
 ther easy light fixture projects and give you step-by-step instruction
 s to give them a try on your own, one candlelit and another hardwired 
 project.We’ll give you instructions on how to turn your single fixtu
 re into a chandelier!\nThis is a great chance to learn some basic elec
 trical and assembly skills. You learn how to wire, drill and assemble.
  If you have a few tools at home bring them along; needle nose pliers,
  scissors, gloves, eye protection, screwdriver.\n\nFor more informatio
 n visit http://phillytodo.com/events/upcycled-light-fixure-workshop
DTSTART:20151114T170000Z
DTEND:20151114T190000Z
CATEGORIES:workshop
LOCATION:Greensgrow Farms
WEBSITE:http://www.greensgrow.org/event/upcycled-light-fixure-workshop
 /
URL:http://www.greensgrow.org/event/upcycled-light-fixure-workshop/
CONTACT:2154272702
ORGANIZER;CN="Greensgrow Farms":http://phillytodo.com/profile/Greensgr
 owFarms
ATTACH;FMTTYPE="image/jpeg":
ATTENDEE;ROLE=REQ-PARTICIPANT;PARTSTAT=ACCEPTED;RSVP=TRUE;CN="Greensgr
 ow Farms":http://phillytodo.com/profile/GreensgrowFarms
END:VEVENT
END:VCALENDAR
