BEGIN:VCALENDAR
PRODID:NingEventWidget-v1
VERSION:2.0
METHOD:PUBLISH
BEGIN:VEVENT
UID:4320450:Event:38226
DTSTAMP:20260425T144758Z
SUMMARY:Unlocking the Mysteries of Mushrooms
DESCRIPTION:Celebrated, coveted, feared, misunderstood; the relationsh
 ip between mankind and fungi is as complex as it is ancient.  As we u
 nravel their mysteries, mushrooms can teach us about both ourselves an
 d the ecosystems around us.    The Mycopolitan Mushroom Company will
  explore the role of fungi in the forest and on the farm, offering tas
 tings of the unique flavors and textures of the forest, and providing 
 a look at native fungi in their habitat.\nParticipants will take home 
 living mycelium to grow mushrooms.\nSpecial member price: $25\nRegiste
 r online now!\n\nFor more information visit http://phillytodo.com/eve
 nts/unlocking-the-mysteries-of-mushrooms
DTSTART:20141018T180000Z
DTEND:20141018T200000Z
CATEGORIES:workshop
LOCATION:Schuylkill Center for Environmental Education
WEBSITE:http://www.schuylkillcenter.org/
URL:http://www.schuylkillcenter.org/
CONTACT:215-482-7300
ORGANIZER;CN="The Schuylkill Center":http://phillytodo.com/profile/Ann
 aLehrMueser
ATTACH;FMTTYPE="image/jpeg":http://storage.ning.com/topology/rest/1.0/
 file/get/3054980308?profile=original
ATTENDEE;ROLE=REQ-PARTICIPANT;PARTSTAT=ACCEPTED;RSVP=TRUE;CN="The Schu
 ylkill Center":http://phillytodo.com/profile/AnnaLehrMueser
END:VEVENT
END:VCALENDAR
