BEGIN:VCALENDAR
PRODID:NingEventWidget-v1
VERSION:2.0
METHOD:PUBLISH
BEGIN:VEVENT
UID:4320450:Event:2507
DTSTAMP:20260425T160935Z
SUMMARY:UNLEASHED a night of fashion for PAWS
DESCRIPTION:Come join PAWS as our models and their pooches strut the r
 unway in fall fashions by Neiman Marcus and Chic Petique. Food by Tabl
 e 31. Fabulous gift bags. All for a great cause.\nPurchase tickets tod
 ay at: http://www.phillypaws.org/News/archive/63.asp\n\nFor more infor
 mation visit http://phillytodo.com/events/unleashed-a-night-of-fashion
DTSTART:20101013T223000Z
DTEND:20101014T020000Z
CATEGORIES:fundraiser, and, fashion, show
LOCATION:Neiman Marcus at the Plaza at King of Prussia
WEBSITE:http://www.phillypaws.org/News/archive/63.asp
URL:http://www.phillypaws.org/News/archive/63.asp
CONTACT:
ORGANIZER:Dana Spain, President and Founder of PAWS
ATTACH;FMTTYPE="image/jpeg":http://storage.ning.com/topology/rest/1.0/
 file/get/3054950790?profile=original
ATTENDEE;ROLE=REQ-PARTICIPANT;PARTSTAT=ACCEPTED;RSVP=TRUE;CN="Dana Spa
 in":http://phillytodo.com/profile/DanaSpain
END:VEVENT
END:VCALENDAR
