BEGIN:VCALENDAR
PRODID:NingEventWidget-v1
VERSION:2.0
METHOD:PUBLISH
BEGIN:VEVENT
UID:4320450:Event:51974
DTSTAMP:20260425T125819Z
SUMMARY:University of Nature
DESCRIPTION:Join us for a full-day of in-depth learning. The day offer
 s a mixture of natural history, environmental art, and humanities. Ses
 sions include urban coyotes, peregrine falcon ecology, environmental a
 rt, media and its influence on perceptions of the environment, and a h
 ands-on workshop on restoring your yard or garden.\nRegistration\nMemb
 ers: $40\nNon-Members: $50\nStudents: $25\nSign up by September 15 
 for $10 off!*\nNot a member? Join today!\n\n*Early bird discount do
 es not apply to student tickets \n \nSessions include:\nCoyotes in o
 ur Midst: A Roundtable Conversation\nBernard “Billy” Brown, Christ
 ian Hunold & Dan Lynch\nKeynote | 10:00 – 11:00 AM\n\nRestoration Te
 chniques for Your Yard\nAndrew Kirkpatrick, Schuylkill Center | 11:
 10 AM – 12:10 PM\nSpace is limited for this session.\nMedia and the 
 Politics of the Earth\nPatrick Murphy, Ph.D., Temple University | 1
 1:10 AM – 12:10 PM\n\nEnvironmental Art\nEllie Irons, Rensselaer Po
 lytechnic Institute | 12:20 – 1:20 PM\n \nPeregrine Falcons: The 
 Death and Life of the World’s Fastest Bird\nDr. Doug Wechsler | 12
 :20 PM – 1:20 PM\n\n\nFor more information visit http://phillytodo.c
 om/events/university-of-nature-2
DTSTART:20171007T140000Z
DTEND:20171007T180000Z
CATEGORIES:symposium
LOCATION:Schuylkill Center for Environmental Education
WEBSITE:https://schuylkillcenter.pivvit.com/university-of-nature
URL:https://schuylkillcenter.pivvit.com/university-of-nature
CONTACT:2154827300
ORGANIZER;CN="The Schuylkill Center":http://phillytodo.com/profile/Ann
 aLehrMueser
ATTACH;FMTTYPE="image/jpeg":http://storage.ning.com/topology/rest/1.0/
 file/get/3055005530?profile=original
ATTENDEE;ROLE=REQ-PARTICIPANT;PARTSTAT=ACCEPTED;RSVP=TRUE;CN="The Schu
 ylkill Center":http://phillytodo.com/profile/AnnaLehrMueser
END:VEVENT
END:VCALENDAR
