BEGIN:VCALENDAR
PRODID:NingEventWidget-v1
VERSION:2.0
METHOD:PUBLISH
BEGIN:VEVENT
UID:4320450:Event:34759
DTSTAMP:20260425T144150Z
SUMMARY:Universal Warrior: Fantasy Hair Competition for City of Hope
DESCRIPTION:Top salons from around the tri-state area will battle it o
 ut during the region's top Fantasy Hair Competition: Universal Warrior
  at Voyeur Nightclub to support City of Hope. Stylists will gather the
 ir \"hair-raising\" forces and enter the arena to compete head-to-head
  for over $5,000 in prizes! Plus, enjoy special $3 you-call-it drinks 
 until midnight. Doors open at 8:00 PM with $10 cover donation going di
 rectly to City of Hope. All guests must be 21+ years old. For more inf
 ormation call 1-800-344-8169, email hgiordano@coh.org or visit www.hop
 ecuts.org.\n\nFor more information visit http://phillytodo.com/events/
 universal-warrior-fantasy-hair-competition-for-city-of-hope
DTSTART:20131103T000000Z
DTEND:20131103T040000Z
CATEGORIES:fundraiser, hair, competition
LOCATION:Voyeur Nightclub
WEBSITE:https://www.facebook.com/events/232029633624072/
URL:https://www.facebook.com/events/232029633624072/
CONTACT:215-840-9216
ORGANIZER;CN="Aversa PR & Events":http://phillytodo.com/profile/KoryAv
 ersa277
ATTACH;FMTTYPE="image/jpeg":
ATTENDEE;ROLE=REQ-PARTICIPANT;PARTSTAT=ACCEPTED;RSVP=TRUE;CN="Aversa P
 R & Events":http://phillytodo.com/profile/KoryAversa277
END:VEVENT
END:VCALENDAR
