BEGIN:VCALENDAR
PRODID:NingEventWidget-v1
VERSION:2.0
METHOD:PUBLISH
BEGIN:VEVENT
UID:4320450:Event:38701
DTSTAMP:20260425T142652Z
SUMMARY:UNIQLO Philly Love Fest
DESCRIPTION:Celebrate the opening of UNIQLO’s first Philly Flagship 
 store at the Philly Love Fest featuring:\n\nFree Admission\nCarnival G
 ames\nPrizes\nFace Painting\nPerformance by Philadelphia’s own DJ Qu
 estlove\nFood Trucks\nDJ Performances\nPrize Vouchers\nTraditional Jap
 anese Taiko Drummers\nPhilly’s Own Street Drummers\nFashion Shows\nF
 ree Transportation on UNIQLO buses via loop service to and from Chestn
 ut Street Store!\n\n \n@UNIQLOUSA\n#UNIQLOPhilly\n\nFor more informat
 ion visit http://phillytodo.com/events/uniqlo-philly-love-fest
DTSTART:20141004T170000Z
DTEND:20141004T220000Z
CATEGORIES:festival, and, grand, opening
LOCATION:The Smith Memorial Playground & Playhouse
WEBSITE:https://www.facebook.com/uniqlo.us
URL:https://www.facebook.com/uniqlo.us
CONTACT:
ORGANIZER:Cashman and Associates
ATTACH;FMTTYPE="image/jpeg":http://storage.ning.com/topology/rest/1.0/
 file/get/3054980009?profile=original
ATTENDEE;ROLE=REQ-PARTICIPANT;PARTSTAT=ACCEPTED;RSVP=TRUE;CN=CashmanAs
 soc:http://phillytodo.com/profile/CashmanAssoc
END:VEVENT
END:VCALENDAR
