BEGIN:VCALENDAR
PRODID:NingEventWidget-v1
VERSION:2.0
METHOD:PUBLISH
BEGIN:VEVENT
UID:4320450:Event:39129
DTSTAMP:20260425T174049Z
SUMMARY:Unedited North Philadelphia: Girard to Lehigh
DESCRIPTION:Come out to the Wagner Free Institute of Science to learn 
 about the people, places, and events that shaped North Philadelphia's 
 dynamic history - including the Columbia Avenue riots, Martin Luther K
 ing, Jr.’s visit to Grace Baptist Temple, the Village of Arts and Hu
 manities, the Blue Horizon boxing arena, and more. “Unedited Philade
 lphia: Girard to Lehigh\" will feature rarely-seen, unedited news foot
 age from the Temple University Libraries' Special Collections Research
  Center Urban Archives and a discussion led by Ken Scott, President of
  the Beech Companies.\n \n\nFor more information visit http://phillyt
 odo.com/events/unedited-north-philadelphia-girard-to-lehigh
DTSTART:20141118T230000Z
DTEND:20141119T010000Z
CATEGORIES:screening
LOCATION:Wagner Free Institute of Science
WEBSITE:https://www.google.com/maps/place/Wagner+Free+Institute+of+Sci
 ence/@39.980562,-75.162818,17z/data=!3m1!4b1!4m2!3m1!1s0x89c6c7e7119f9
 ca1:0xe7f6ef6325cfcdda
URL:https://www.google.com/maps/place/Wagner+Free+Institute+of+Science
 /@39.980562,-75.162818,17z/data=!3m1!4b1!4m2!3m1!1s0x89c6c7e7119f9ca1:
 0xe7f6ef6325cfcdda
CONTACT:2157636529
ORGANIZER:Wagner Free Institute of Science
ATTACH;FMTTYPE="image/jpeg":http://storage.ning.com/topology/rest/1.0/
 file/get/3054984171?profile=original
ATTENDEE;ROLE=REQ-PARTICIPANT;PARTSTAT=ACCEPTED;RSVP=TRUE;CN="Wagner F
 ree Institute":http://phillytodo.com/profile/WagnerFreeInstitute
END:VEVENT
END:VCALENDAR
