BEGIN:VCALENDAR
PRODID:NingEventWidget-v1
VERSION:2.0
METHOD:PUBLISH
BEGIN:VEVENT
UID:4320450:Event:34766
DTSTAMP:20260425T185656Z
SUMMARY:Undercover Gluten-Free: Thanksgiving Sides
DESCRIPTION:$35. Registration Required.Looking for some holiday help w
 ith gluten-free recipes? Check out this Thanksgiving workshop with win
 ner of NBC’s “Next Local TV Chef” competition Chef Laura Hahn. 
  She will make gluten-free, vegetarian sides that are great for the ho
 liday. She'll go over the basics of gluten-free cooking and demonstrat
 e with a few great Thanksgiving recipes; Roasted Apple/Sweet Potato Ca
 napés, Rice Stuffing, and Rum Walnut Cake.\n\nFor more information vi
 sit http://phillytodo.com/events/undercover-gluten-free-thanksgiving-s
 ides
DTSTART:20131109T170000Z
DTEND:20131109T190000Z
CATEGORIES:workshop
LOCATION:Greensgrow Farms Community Kitchen at St. Michael's Lutheran 
 Church
WEBSITE:http://www.greensgrow.org/event/undercover-gluten-free-worksho
 p-thanksgiving-with-chef-laura-hahn/
URL:http://www.greensgrow.org/event/undercover-gluten-free-workshop-th
 anksgiving-with-chef-laura-hahn/
CONTACT:
ORGANIZER;CN="Greensgrow Farms":http://phillytodo.com/profile/Greensgr
 owFarms
ATTACH;FMTTYPE="image/jpeg":
ATTENDEE;ROLE=REQ-PARTICIPANT;PARTSTAT=ACCEPTED;RSVP=TRUE;CN="Greensgr
 ow Farms":http://phillytodo.com/profile/GreensgrowFarms
END:VEVENT
END:VCALENDAR
