BEGIN:VCALENDAR
PRODID:NingEventWidget-v1
VERSION:2.0
METHOD:PUBLISH
BEGIN:VEVENT
UID:4320450:Event:49921
DTSTAMP:20260425T142541Z
SUMMARY:Uncorked: Wine Tasting
DESCRIPTION:An evening of inspired tastings from Vinocity and Vinedrea
  Wines paired with Di Bruno Bros. signature cheese platters are sure t
 o delight any wino. From wine inspired crafts to samples of popular w
 ine selections, guests will enjoy an evening of fun and relaxation at 
 the Market & Shops. Plus. enjoy live entertainment by local duo, Rad 
 and Kell!\no   Attendees must be 21+ and RSVP!\no   Tuesday May 
 23, 2017 from 5-7pm\no   Location: The Market & Shops at Comcast Ce
 nter\n§  1701 JFK Blvd Philadelphia Pa.\n\nFor more information vis
 it http://phillytodo.com/events/uncorked-wine-tasting-1
DTSTART:20170523T210000Z
DTEND:20170523T230000Z
CATEGORIES:wine, tasting
LOCATION:The Market & Shops at Comcast Center
WEBSITE:https://marketandshops.ticketleap.com/uncorked-wine-tasting/
URL:https://marketandshops.ticketleap.com/uncorked-wine-tasting/
CONTACT:12156271060
ORGANIZER;CN=CashmanAssoc:http://phillytodo.com/profile/CashmanAssoc
ATTACH;FMTTYPE="image/jpeg":http://storage.ning.com/topology/rest/1.0/
 file/get/3055003740?profile=original
ATTENDEE;ROLE=REQ-PARTICIPANT;PARTSTAT=ACCEPTED;RSVP=TRUE;CN=CashmanAs
 soc:http://phillytodo.com/profile/CashmanAssoc
END:VEVENT
END:VCALENDAR
