BEGIN:VCALENDAR
PRODID:NingEventWidget-v1
VERSION:2.0
METHOD:PUBLISH
BEGIN:VEVENT
UID:4320450:Event:38035
DTSTAMP:20260425T190426Z
SUMMARY:Ultimate At-Home 'Zas with Pizza Brain
DESCRIPTION:Ultimate At-Home 'Zas with Pizza Brain • October 11 • 
 12–2pm • $35.00\nRegistration Required. Pizza Brain comes to the G
 reensgrow Community kitchen to show you the basics of dough making at 
 home. In this primer class you’ll get a glimpse into the brain of Pi
 zza Brain! You’ll learn about dough essentials, stretching and tossi
 ng. Well touch on how to make your own mozzarella and the basics of si
 mple pizza sauces.\n \nEveryone will get a ball of dough to take home
  and experiment with. Stop by our farmstand after to pick up seasonal 
 toppings for your pie!\n \nCheck Pizza Brain out at 2313 Frankford Av
 enue on online.\nIf you love pizza news-check out their facebook page.
 \n \nContact: kitchen@greensgrow.org\nLocation: Greensgrow Community 
 Kitchen at St. Michael's Lutheran Church  Register: http://www.greensg
 row.org/event/ultimate-at-home-zas-with-pizza-brain/\n\nFor more infor
 mation visit http://phillytodo.com/events/ultimate-at-home-zas-with-pi
 zza-brain
DTSTART:20141011T160000Z
DTEND:20141011T180000Z
CATEGORIES:culinary, workshop
LOCATION:Greensgrow Community Kitchen at St. Michael's Lutheran Church
WEBSITE:http://www.greensgrow.org/event/ultimate-at-home-zas-with-pizz
 a-brain/
URL:http://www.greensgrow.org/event/ultimate-at-home-zas-with-pizza-br
 ain/
CONTACT:267.283.6787
ORGANIZER:Greensgrow Farms and Pizza Brain
ATTACH;FMTTYPE="image/jpeg":http://storage.ning.com/topology/rest/1.0/
 file/get/3054980385?profile=original
ATTENDEE;ROLE=REQ-PARTICIPANT;PARTSTAT=ACCEPTED;RSVP=TRUE;CN="Greensgr
 ow Farms":http://phillytodo.com/profile/GreensgrowFarms
END:VEVENT
END:VCALENDAR
