BEGIN:VCALENDAR
PRODID:NingEventWidget-v1
VERSION:2.0
METHOD:PUBLISH
BEGIN:VEVENT
UID:4320450:Event:2112
DTSTAMP:20260425T142542Z
SUMMARY:Ukulele Concert, Community Building Concert Tour by Bicycle
DESCRIPTION:a free performance by ukulele songwriter Aaron Lee\nWeaver
 s Way Garage at 542 Carpenter Lane\nFriday, September 3, 7:30 p.m.\n\n
 Admission is free. Try to bring a folding chair.\nThe performance is p
 art of Lee’s “Ukulele by Bicycle Tour,” a series of concerts in 
 communities across New England, New York and Pennsylvania from mid Aug
 ust to mid September. Concert-goers are urged to bring their own chair
 . Although the concerts are free, donations are accepted at each show 
 to benefit an organization that is doing work in the local community.\
 nLee plans on performing four or five times per week, riding his bicyc
 le between shows often 50-60 miles apart. He will be carrying everythi
 ng he needs and camping out along the way. In this way, the concert wi
 ll provide a positive community experience as well as raise awareness 
 for a local organization.\nIn a global sense, the tour will promote th
 e causes of living simply and sustainably (hence tour by bicycle), act
 ing locally (working with a local organization), and the energy of bri
 nging people together (the event will be a reason to get together).\nI
 n February of 2010, Lee released The Ukulele Project, a 14 song record
  in which all of the songs creatively and intentionally feature the wo
 rd ukulele. Lee has performed all over New England alone and as part o
 f a trio also featuring piano and upright bass. For more information a
 bout Aaron Lee’s tour, go to http://ukulelebybicycle.blogspot.com.\n
 \nFor more information visit http://phillytodo.com/events/ukulele-conc
 ert-community
DTSTART:20100903T233000Z
DTEND:20100904T010000Z
CATEGORIES:concert
LOCATION:Weavers Way Mt. Airy Garage Location
WEBSITE:http://www.weaversway.coop
URL:http://www.weaversway.coop
CONTACT:215-843-2350
ORGANIZER;CN="Jon McGoran":http://phillytodo.com/profile/JonMcGoran626
ATTACH;FMTTYPE="image/jpeg":
ATTENDEE;ROLE=REQ-PARTICIPANT;PARTSTAT=ACCEPTED;RSVP=TRUE;CN="Jon McGo
 ran":http://phillytodo.com/profile/JonMcGoran626
END:VEVENT
END:VCALENDAR
