BEGIN:VCALENDAR
PRODID:NingEventWidget-v1
VERSION:2.0
METHOD:PUBLISH
BEGIN:VEVENT
UID:4320450:Event:39059
DTSTAMP:20260425T112801Z
SUMMARY:Ugly Sweater ShopUp PopUp
DESCRIPTION:This holiday season, Voorhees Town Center hosts a series o
 f pop ups to spice up holiday shopping. This weekend, November 28th-30
 th will be no different, with the Shop Up Pop Up featuring Summer Mize
 ra Vintage and Top Shelf Premium Vintage for the Ugly Sweater Shop. En
 joy all the holiday fun with tons of ugly holiday sweaters, celebrator
 y price promotions, drinks and snacks. You can check out the Ugly Swea
 ter Pop Up Shop November 28th through November 30th from 6p-9p on Fri
 day, 3p-9p on Saturday and 12p-6p on Sunday.  For more information on
  the other shops, head to shopup-popup.com!\n\nFor more information v
 isit http://phillytodo.com/events/ugly-sweater-shopup-popup
DTSTART:20141128T230000Z
DTEND:20141201T020000Z
CATEGORIES:shop, pop, up
LOCATION:Voorhees Town Center
WEBSITE:http://voorheestowncenter.com/calendar/event/18886-shopup-popu
 p-holiday-boutique-6-weeks-6-different-shops-one-fabulous-location
URL:http://voorheestowncenter.com/calendar/event/18886-shopup-popup-ho
 liday-boutique-6-weeks-6-different-shops-one-fabulous-location
CONTACT:
ORGANIZER:PREIT
ATTACH;FMTTYPE="image/jpeg":http://storage.ning.com/topology/rest/1.0/
 file/get/3054982838?profile=original
ATTENDEE;ROLE=REQ-PARTICIPANT;PARTSTAT=ACCEPTED;RSVP=TRUE;CN=CashmanAs
 soc:http://phillytodo.com/profile/CashmanAssoc
END:VEVENT
END:VCALENDAR
