BEGIN:VCALENDAR
PRODID:NingEventWidget-v1
VERSION:2.0
METHOD:PUBLISH
BEGIN:VEVENT
UID:4320450:Event:39310
DTSTAMP:20260425T145013Z
SUMMARY:Ugly Sweater Christmas Eve Eve Christmas Carol Karaoke
DESCRIPTION:The Gaslight is throwing a Christmas Eve Eve Party with Ch
 ristmas carol karaoke, holiday cocktails, festive treats and free swag
 . The festivities kick off on Tuesday, December 23 at 9 PM, but you ar
 rive early for The Gaslight's 3x5 happy hour including $3 beers, chick
 en nuggets, deviled eggs and pickled veggies, and $5 cocktials, wines,
  Polish meatballs, chicken liver mousse foie gras.  If you step up to 
 the mic, you will be rewarded with complimentary shots of spiked eggno
 g and Christmas cookies, both made by The Gaslight's Executive Chef Ja
 son Cichonski.  Other drinks include the Elf on a Shelf, house-made re
 d sangria made with cinnamon, cloves and other mulling spices. There w
 ill be a variety of boozy snow cones, including The Snowball, a delici
 ous eggnog rendition, all for $5.\n\nFor more information visit http:/
 /phillytodo.com/events/ugly-sweater-christmas-eve-eve-christmas-carol-
 karaoke
DTSTART:20141224T020000Z
DTEND:20141224T070000Z
CATEGORIES:christmas, "party!"
LOCATION:The Gaslight
WEBSITE:http://www.thegaslightphilly.com
URL:http://www.thegaslightphilly.com
CONTACT:215-925-7691
ORGANIZER:The Gaslight
ATTACH;FMTTYPE="image/jpeg":http://storage.ning.com/topology/rest/1.0/
 file/get/3054982020?profile=original
ATTENDEE;ROLE=REQ-PARTICIPANT;PARTSTAT=ACCEPTED;RSVP=TRUE;CN="Neff Ass
 ociates":http://phillytodo.com/profile/NeffAssociates317
END:VEVENT
END:VCALENDAR
