BEGIN:VCALENDAR
PRODID:NingEventWidget-v1
VERSION:2.0
METHOD:PUBLISH
BEGIN:VEVENT
UID:4320450:Event:36869
DTSTAMP:20260425T112745Z
SUMMARY:UEFA Champions League Final Watch Party
DESCRIPTION:Philly Phaithful (737 N. 4th St) and Live Breathe Futbol h
 ost a watch party for the UEFA Champions League Final on Saturday, May
  24, 2014. Catch Real Madrid vs. Atletico Madrid on the big 16-foot sc
 reen. Enjoy free beverages, including those with a Spanish twist. Be t
 he first to see the new World Cup designs before they launch to the pu
 blic – plus save on both Live, Breathe, Futbol AND Philly Phaithful 
 merchandise. Admission is free (21+), but RSVP is required at www.phil
 lyphaithful.com, info@phillyphaithful.com or (888) 4PHAITH.\n\nFor mor
 e information visit http://phillytodo.com/events/uefa-champions-league
 -final-watch-party
DTSTART:20140524T180000Z
DTEND:20140524T230000Z
CATEGORIES:watch, party, sports, game
LOCATION:Philly Phaithful
WEBSITE:http://www.phillyphaithful.com/UEFA-CHAMPIONS-LEAGUE-FINAL-WAT
 CH-PARTY_p_338.html
URL:http://www.phillyphaithful.com/UEFA-CHAMPIONS-LEAGUE-FINAL-WATCH-P
 ARTY_p_338.html
CONTACT:888-474-2484
ORGANIZER:Philly Phaithful
ATTACH;FMTTYPE="image/jpeg":http://storage.ning.com/topology/rest/1.0/
 file/get/3054979567?profile=original
ATTENDEE;ROLE=REQ-PARTICIPANT;PARTSTAT=ACCEPTED;RSVP=TRUE;CN="Aversa P
 R & Events":http://phillytodo.com/profile/KoryAversa277
END:VEVENT
END:VCALENDAR
