BEGIN:VCALENDAR
PRODID:NingEventWidget-v1
VERSION:2.0
METHOD:PUBLISH
BEGIN:VEVENT
UID:4320450:Event:931
DTSTAMP:20260425T112517Z
SUMMARY:Tyler Garden Collaborative Print Mural
DESCRIPTION:The Tyler Garden Collaborative Print Mural will be display
 ed from February 10 through March 31 in the Gallagher Room of the Roll
 ins Center on Bucks County Community College’s Newtown campus. Based
  on an image of Tyler Gardens, this collaborative printed 10’ x 15
  modular mural will evolve over a period of three or four weeks. It w
 ill be comprised of individual 12” x 12” linoleum squares carved a
 nd printed by BCCC faculty, students, emeritus faculty and alumni. Tyl
 er Garden Collaborative Mural is an Independent Project of Philagrafik
 a 2010, Philadelphia’s international festival celebrating print cont
 emporary art.\nPartial list of participants:\nShawn Allen, Betsy Asplu
 ndh, Selma Bortner, Caren Friedman, Barbara Churilla, Jim Carey, Helga
  Danos, Christine Dellandre, Jerry Gorman, Dave Hoke, Rebecca Kelly, B
 arbara Korb, Mary Ann Lawler-Rees, Kathy Metaxas, Rosalinda Mora, Mary
  Nolan, Winnie Radolan, Smita Rao, Sandra Scicchitani, Mark Sfirri, Ca
 itlin Shurilla, Val Sivilli, Cheryl Spears, John Strawn, Dawn Wesemann
 , Barbara Zietchick\n\nFor more information visit http://phillytodo.co
 m/events/tyler-garden-collaborative
DTSTART:20100210T130000Z
DTEND:20100401T000000Z
CATEGORIES:exhibition
LOCATION:Rollins Center, Gallagher Room/Bucks County Community College
WEBSITE:http://www.bucks.edu/gallery
URL:http://www.bucks.edu/gallery
CONTACT:215-968-8425
ORGANIZER;CN="Fran Orlando":http://phillytodo.com/profile/FranOrlando
ATTACH;FMTTYPE="image/jpeg":
ATTENDEE;ROLE=REQ-PARTICIPANT;PARTSTAT=ACCEPTED;RSVP=TRUE;CN="Fran Orl
 ando":http://phillytodo.com/profile/FranOrlando
END:VEVENT
END:VCALENDAR
