BEGIN:VCALENDAR
PRODID:NingEventWidget-v1
VERSION:2.0
METHOD:PUBLISH
BEGIN:VEVENT
UID:4320450:Event:51830
DTSTAMP:20260425T142550Z
SUMMARY:Twilight Markets
DESCRIPTION:Join us at our next Twilight Market for a festive evening 
 market at our green space nestled in Kensington! We are keeping the fa
 rm and the farmstand open late for shopping and have invited some of o
 ur favorite friends to join us! Philadelphia Brewing Company will be h
 ere and Chef Carolynn will be making grilled summertime treats. West P
 hilly born and raised PB&Jams will be here, servin’ up their sweet, 
 savory and innovative renditions of the classic PB&J! Enjoy live music
  from DJ John Morrison and James Austin Melton, and shop local makers;
  Mithras Candle homemade candles sourced from local wax, an array of h
 andcrafted soaps and balms from The Tin Goat, Eco-friendly organically
  sourced beauty products from Nyambi Naturals, small batch soaps, cand
 les and home goods from Thankful Sage Farm School and Shell Home Made
 s tinctures and small treasures. This month join us for a free seed 
 bomb demo and outdoor movie, more details below! Twilight Markets are 
 the second Thursday of each month through November and are BYOBW (beer
  and wine). Different music, local food and drink, workshops, music an
 d arts and craft vendors each month.\nSeed Bomb Demo: Farm Your City! 
 Staff expert Ari Rosenberg will demonstrate how to make seed bombs. Th
 ese are ready-to-plant mix of compost, clay and seeds often launched i
 nto vacant lots or under-utilized green spaces or your own garden beds
 ! Ari’s seed bombs will be full of edible or ornamental plant seeds.
  First come first served. This is a great activity for all garden love
 rs ages 5 and up!\nSettle in and get cozy for the Philadelphia Film So
 ciety’s final installment of their Movies on the Block series with a
  screening of “Wild Plants,” right here on the farm! Nicolas Humbe
 rt’s “Wild Plants” is a film that transports audiences to garden
 s everywhere from Detroit to Geneva to explore the relationship people
  have with the plants around them.\nThe Philadelphia Film Society’s 
 Movies on the Block is a free seasonal program that ensures all of Phi
 ladelphia has access to film. We are proud to partner with them to bri
 ng our community together for a night of casual entertainment right he
 re on the farm. The Twilight Market begins at 4pm, screening will star
 t at sundown, around 7pm.\n\nFor more information visit http://phillyt
 odo.com/events/twilight-markets
DTSTART:20170914T200000Z
DTEND:20170915T000000Z
CATEGORIES:market
LOCATION:Greensgrow Farms
WEBSITE:http://www.greensgrow.org/event/twilight-market/
URL:http://www.greensgrow.org/event/twilight-market/
CONTACT:215-427-2780
ORGANIZER;CN="Greensgrow Farms":http://phillytodo.com/profile/Greensgr
 owFarms
ATTACH;FMTTYPE="image/jpeg":http://storage.ning.com/topology/rest/1.0/
 file/get/3055005742?profile=original
ATTENDEE;ROLE=REQ-PARTICIPANT;PARTSTAT=ACCEPTED;RSVP=TRUE;CN="Greensgr
 ow Farms":http://phillytodo.com/profile/GreensgrowFarms
END:VEVENT
END:VCALENDAR
