BEGIN:VCALENDAR
PRODID:NingEventWidget-v1
VERSION:2.0
METHOD:PUBLISH
BEGIN:VEVENT
UID:4320450:Event:56245
DTSTAMP:20260425T112404Z
SUMMARY:Twilight Market
DESCRIPTION:Live Music • Local Food & Drink • Craft Vendors • Wo
 rm Composting Demo\nBring your friends and family and join us for our 
 festive evening market! We are keeping the farm and the farmstand open
  late for shopping and have invited some of our favorite friends to jo
 in us! Philadelphia Brewing Company and Rowhouse Spirits.\nThis month,
  there’s something for everyone! Enjoy a unique blend of synthesized
  vocals and electronic music from Son Step from 6-7pm, and instrumenta
 l folk music infused with jazz and classic tones from Red Cedar Duo 7-
 8pm.\nWe’ve got a good group of vendors this month. Philadelphia Mea
 d Well will be joining us with their delicious honeyed wines. There wi
 ll be handmade totes, buttons, jewelry, prints, paper goods, baby/todd
 ler clothes, embroidered hats and more from Charmazing Inc., Rachael A
 mber Design, Evergreen Stitch and locals Dave & Mary. Earthenware and 
 glass blown ornaments and terrariums will be featured from Who Dog Kni
 ts and Micari Arts Philly. Radiant Soaps will have handcrafted bath pr
 oducts for the care of your body, and Elements of Aura has stocked up 
 on metaphysical healing toolkits for the care of your mind. There will
  also be woodworked appliances, handmade soy candles and all your tea-
 related needs from Grajales Fabrication, Simply Hecgardo, and Lady Gra
 y Tea to furnish your kitchen and home. Don’t forget to bring your c
 anine friends when you visit, because Melmos Dog Treats has got someth
 ing for them too!\nWorm Composting Demo • 5-7pm\nJenny the Worm Lady
  will be joining us to demonstrate the basics of worm composting. Lear
 n about turning your kitchen scraps into worm castings, and how to mak
 e worm poop tea! This is the best fertilizer you can make at home to k
 eep your gardens and house plants flourishing all year long. She will 
 be bringing along her Can-o-Worms so you can see them in action!\nJenn
 y “The Worm Lady” got her start in 1998 at The Rodale Institute, j
 ust outside of Kutztown, PA. Her  work has been published in “Growi
 ng Roots.” The Worm Lady’s compost products and services meet the 
 needs of house plant enthusiasts, gardeners, farmers, nurseries, resta
 urants, green lawn services, community gardens, public parks and more.
  She will books, castings, tea for sale and will be taking orders for 
 worm composting units.\n* * * * * * * * * * * *\nOur Twilight Mark
 ets are on the third Thursday of each month from June through October.
  Different music, local food and drink, workshops, music and arts and 
 craft vendors each month. BYO welcome.\n\nFor more information visit h
 ttp://phillytodo.com/events/twilight-market
DTSTART:20180920T210000Z
DTEND:20180921T000000Z
CATEGORIES:night, market, crafts, vendors, farmstand, beer, tasting
LOCATION:Greensgrow Farms
WEBSITE:https://www.greensgrow.org/event/twilight-markets-2018-06-21-2
 018-07-19-2018-09-20/
URL:https://www.greensgrow.org/event/twilight-markets-2018-06-21-2018-
 07-19-2018-09-20/
CONTACT:
ORGANIZER;CN="Greensgrow Farms":http://phillytodo.com/profile/Greensgr
 owFarms
ATTACH;FMTTYPE="image/jpeg":http://storage.ning.com/topology/rest/1.0/
 file/get/3055013770?profile=original
ATTENDEE;ROLE=REQ-PARTICIPANT;PARTSTAT=ACCEPTED;RSVP=TRUE;CN="Greensgr
 ow Farms":http://phillytodo.com/profile/GreensgrowFarms
END:VEVENT
END:VCALENDAR
