BEGIN:VCALENDAR
PRODID:NingEventWidget-v1
VERSION:2.0
METHOD:PUBLISH
BEGIN:VEVENT
UID:4320450:Event:46727
DTSTAMP:20260425T130434Z
SUMMARY:Twilight Garden Tour
DESCRIPTION:We invite you to spend an evening with us to get a glimpse
  of how vision and hard work can change a community while learning abo
 ut a variety of creative ways to build green space in an urban environ
 ment.\nThe evening will include curated, small group tours of the nurs
 ery that are designed to inform and inspire you. Enjoy seasonal fruit,
  locally made cheeses and refreshments. Philadelphia Brewing Company a
 nd Rowhouse Spirits will be serving beer and spirits made just blocks 
 from the farm. Jazz pianist, Patrick Fitzgerald will play throughout t
 he twilight.\n- See more at: http://www.greensgrow.org/event/twilight-
 garden-tour/#sthash.KgezSpYU.dpuf\n\nFor more information visit http:/
 /phillytodo.com/events/twilight-garden-tour
DTSTART:20160706T220000Z
DTEND:20160706T230000Z
CATEGORIES:summer, celebration
LOCATION:Greensgrow Farm
WEBSITE:http://www.greensgrow.org/event/twilight-garden-tour/
URL:http://www.greensgrow.org/event/twilight-garden-tour/
CONTACT:215.427.2702
ORGANIZER;CN="Greensgrow Farms":http://phillytodo.com/profile/Greensgr
 owFarms
ATTACH;FMTTYPE="image/jpeg":http://storage.ning.com/topology/rest/1.0/
 file/get/3054995679?profile=original
ATTENDEE;ROLE=REQ-PARTICIPANT;PARTSTAT=ACCEPTED;RSVP=TRUE;CN="Greensgr
 ow Farms":http://phillytodo.com/profile/GreensgrowFarms
END:VEVENT
END:VCALENDAR
