BEGIN:VCALENDAR
PRODID:NingEventWidget-v1
VERSION:2.0
METHOD:PUBLISH
BEGIN:VEVENT
UID:4320450:Event:40861
DTSTAMP:20260425T142622Z
SUMMARY:#TUXETuesday Debut & Store Opening
DESCRIPTION:Please join us for an intimate gathering as we raise our g
 lass to celebrate the opening of our flagship location in the Suburban
  Square and our debut of the #TUXETuesday event series.  Enjoy champa
 gne and hors d’oeuvres with us, along with 20% off all TUXE Bodywear
  merchandise.\n \n                 \n\nFor more information 
 visit http://phillytodo.com/events/tuxetuesday-debut-store-opening
DTSTART:20150505T210000Z
DTEND:20150506T000000Z
CATEGORIES:store, opening
LOCATION:TUXE Bodywear
WEBSITE:http://www.tuxebodywear.com
URL:http://www.tuxebodywear.com
CONTACT:
ORGANIZER:TUXE Bodywear
ATTACH;FMTTYPE="image/jpeg":
ATTENDEE;ROLE=REQ-PARTICIPANT;PARTSTAT=ACCEPTED;RSVP=TRUE;CN=CashmanAs
 soc:http://phillytodo.com/profile/CashmanAssoc
END:VEVENT
END:VCALENDAR
