BEGIN:VCALENDAR
PRODID:NingEventWidget-v1
VERSION:2.0
METHOD:PUBLISH
BEGIN:VEVENT
UID:4320450:Event:3014
DTSTAMP:20260425T142549Z
SUMMARY:TURKEY PHEVER
DESCRIPTION:Come out and celebrate Thanksgiving Eve without all the NO
 NSENSE!!!\n\nNO COVER, GREAT DRINK PRICES & FREE PARKING\n\nSpecial Gu
 est Bartenders:\nClaudia Avicolli- Alisa Lord - Larry Derose - Cindy P
 iccoli - Michael “Dell” D’Allesandro & Nigel D'Angelis\n\n...:::
 ALL NIGHT LONG:::...\n$4 Stoli/ThreeOlives/Bacardi Cocktails\n$3 All D
 omestic Beers and $5 Soco Shots!\n\nMusical Tag Team\nDJ Eddie Tully a
 nd DJ Johnny Looch\n\nFor more information visit http://phillytodo.com
 /events/turkey-phever
DTSTART:20101125T020000Z
DTEND:20101125T070000Z
CATEGORIES:thanksgiving, eve, bash
LOCATION:McFadden\"s @ Citizens Bank Park
WEBSITE:http://www.mcfaddensballpark.com
URL:http://www.mcfaddensballpark.com
CONTACT:
ORGANIZER;CN="Eddie Tully":http://phillytodo.com/profile/EddieTully508
ATTACH;FMTTYPE="image/jpeg":http://storage.ning.com/topology/rest/1.0/
 file/get/3054951234?profile=original
ATTENDEE;ROLE=REQ-PARTICIPANT;PARTSTAT=ACCEPTED;RSVP=TRUE;CN="Eddie Tu
 lly":http://phillytodo.com/profile/EddieTully508
END:VEVENT
END:VCALENDAR
