BEGIN:VCALENDAR
PRODID:NingEventWidget-v1
VERSION:2.0
METHOD:PUBLISH
BEGIN:VEVENT
UID:4320450:Event:31850
DTSTAMP:20260425T142756Z
SUMMARY:Tune up your Bike Day
DESCRIPTION:Bring your bike to the Lansdowne Library parking lot for
  assessment by volunteers and learn important bike safety tips! We wil
 l fix flats (and show you how to patch your tires), adjust brakes, dia
 gnose your bike, and make minor repairs. First come, first served. Fun
  for the whole family!\n\nFor more information visit http://phillytodo
 .com/events/tune-up-your-bike-day
DTSTART:20130511T140000Z
DTEND:20130511T190000Z
CATEGORIES:bike, safety, fix
LOCATION:Location: Lansdowne Public Library
WEBSITE:http://lansdownepubliclibrary.com/
URL:http://lansdownepubliclibrary.com/
CONTACT:(610) 623-0239
ORGANIZER;CN="Lansdowne Public Library":http://phillytodo.com/profile/
 LansdownePublicLibrary
ATTACH;FMTTYPE="image/jpeg":http://storage.ning.com/topology/rest/1.0/
 file/get/3054965726?profile=original
ATTENDEE;ROLE=REQ-PARTICIPANT;PARTSTAT=ACCEPTED;RSVP=TRUE;CN="Lansdown
 e Public Library":http://phillytodo.com/profile/LansdownePublicLibrary
END:VEVENT
END:VCALENDAR
