BEGIN:VCALENDAR
PRODID:NingEventWidget-v1
VERSION:2.0
METHOD:PUBLISH
BEGIN:VEVENT
UID:4320450:Event:49757
DTSTAMP:20260425T160113Z
SUMMARY:Tropicana AC Fireworks
DESCRIPTION:Start the summer season at Tropicana Atlantic City’s Boa
 rdwalk Block Party Friday, May 26 from 8 to 10 p.m. Enjoy live enterta
 inment, giveaways, Multimedia Light and Sound shows, fireworks and mor
 e. Tropicana is bringing back weekly fireworks for the third year; the
 y will continue every Saturday through September 9, 2017.\n \n\nFor m
 ore information visit http://phillytodo.com/events/tropicana-ac-firewo
 rks
DTSTART:20170527T000000Z
DTEND:20170527T020000Z
CATEGORIES:fireworks
LOCATION:Tropicana Hotel
WEBSITE:
URL:
CONTACT:
ORGANIZER:
ATTACH;FMTTYPE="image/jpeg":http://storage.ning.com/topology/rest/1.0/
 file/get/3055003705?profile=original
ATTENDEE;ROLE=REQ-PARTICIPANT;PARTSTAT=ACCEPTED;RSVP=TRUE;CN=CashmanAs
 soc:http://phillytodo.com/profile/CashmanAssoc
END:VEVENT
END:VCALENDAR
